BEGIN:VCALENDAR
VERSION:2.0
PRODID:icalendar-ruby
CALSCALE:GREGORIAN
METHOD:PUBLISH
BEGIN:VEVENT
DTSTAMP:20260423T142854Z
UID:31-240882@johnstonriveroflife.org
DTSTART:20260423T150000Z
DTEND:20260424T050000Z
CLASS:PUBLIC
CREATED:20260422T140911
DESCRIPTION:
LAST-MODIFIED:20260422T140911
LOCATION:Johnston River of Life
SUMMARY:Care Team Meeting
URL;VALUE=URI:https://www.johnstonriveroflife.org/events/care-team-meeting/
 2026-04-23
END:VEVENT
END:VCALENDAR
