BEGIN:VCALENDAR
VERSION:2.0
PRODID:icalendar-ruby
CALSCALE:GREGORIAN
METHOD:PUBLISH
BEGIN:VEVENT
DTSTAMP:20260423T142056Z
UID:29-240873@johnstonriveroflife.org
DTSTART:20260424T210000Z
DTEND:20260424T230000Z
CLASS:PUBLIC
CREATED:20260422T125838
DESCRIPTION:Church reserved for a wedding
LAST-MODIFIED:20260422T125838
LOCATION:Johnston River of Life
SUMMARY:Wedding
URL;VALUE=URI:https://www.johnstonriveroflife.org/events/wedding/2026-04-24
ATTACH;FILENAME=FBGcc.jpg;FMTTYPE=image/jpeg:https://dq5pwpg1q8ru0.cloudfro
 nt.net/2026/04/22/17/58/38/aa00eaaf-64ab-4dbd-96fe-3658b24ed98d/FBGcc.jpg
END:VEVENT
END:VCALENDAR
